Workbook

Sheet Summary
A1: Instructor | B1: ENG-325-01
A3: Course | B3: Sheet | C3: # of responses
A4: =data!A2 -> King, Matt | B4: Course1 | C4: =Course1!$S$4 -> 16
A7: Semester | B7: 15/FA

Sheet data
A1: instructor | B1: a1sd | C1: a1d | D1: a1n | E1: a1a | F1: a1sa | G1: a2sd | H1: a2d | I1: a2n | J1: a2a | K1: a2sa | L1: a3sd | M1: a3d | N1: a3n | O1: a3a | P1: a3sa | Q1: a4e | R1: a4ot | S1: a4l | T1: a5e | U1: a5ot | V1: a5l | W1: a6sd | X1: a6d | Y1: a6n | Z1: a6a | AA1: a6sa | AB1: a7sd | AC1: a7d | AD1: a7n | AE1: a7a | AF1: a7sa | AG1: a8sd | AH1: a8d | AI1: a8n | AJ1: a8a | AK1: a8sa | AL1: a9mts | AM1: a9ss | AN1: a9ar | AO1: a9sf | AP1: a9mtf | AQ1: a10sd | AR1: a10d | AS1: a10n | AT1: a10a | AU1: a10sa | AV1: a11sd | AW1: a11d | AX1: a11n | AY1: a11a | AZ1: a11sa | BA1: a12sd | BB1: a12d | BC1: a12n | BD1: a12a | BE1: a12sa | BF1: a13sd | BG1: a13d | BH1: a13n | BI1: a13a | BJ1: a13sa | BK1: a14au | BL1: a14uu | BM1: a14uah | BN1: a14ru | BO1: a14nu | BP1: a15a | BQ1: a15u | BR1: a15h | BS1: a15r | BT1: a15sn | BU1: a15dns | BV1: b1sd | BW1: b1d | BX1: b1n | BY1: b1a | BZ1: b1sa | CA1: b1no | CB1: b2nu | CC1: b2ru | CD1: b2ul | CE1: b2uul | CF1: b2au | CG1: b2nr | CH1: b3sd | CI1: b3d | CJ1: b3n | CK1: b3a | CL1: b3sa | CM1: b3na | CN1: c1ah | CO1: c1uh | CP1: c1hh | CQ1: c1rh | CR1: c1nh | CS1: c1n | CT1: c2ah | CU1: c2uh | CV1: c2hh | CW1: c2rh | CX1: c2nh | CY1: c2n
A2: King, Matt | B2: 0 | C2: 2 | D2: 1 | E2: 8 | F2: 5 | G2: 0 | H2: 1 | I2: 2 | J2: 5 | K2: 8 | L2: 0 | M2: 1 | N2: 6 | O2: 5 | P2: 4 | Q2: 0 | R2: 16 | S2: 0 | T2: 0 | U2: 15 | V2: 1 | W2: 0 | X2: 1 | Y2: 1 | Z2: 4 | AA2: 10 | AB2: 0 | AC2: 1 | AD2: 0 | AE2: 9 | AF2: 6 | AG2: 0 | AH2: 0 | AI2: 1 | AJ2: 6 | AK2: 9 | AL2: 0 | AM2: 0 | AN2: 14 | AO2: 2 | AP2: 0 | AQ2: 0 | AR2: 0 | AS2: 2 | AT2: 9 | AU2: 5 | AV2: 0 | AW2: 0 | AX2: 1 | AY2: 12 | AZ2: 3 | BA2: 0 | BB2: 0 | BC2: 2 | BD2: 9 | BE2: 5 | BF2: 0 | BG2: 0 | BH2: 0 | BI2: 6 | BJ2: 10 | BK2: 7 | BL2: 6 | BM2: 3 | BN2: 0 | BO2: 0 | BP2: 12 | BQ2: 1 | BR2: 0 | BS2: 0 | BT2: 0 | BU2: 3 | BV2: 0 | BW2: 0 | BX2: 1 | BY2: 9 | BZ2: 6 | CA2: 0 | CB2: 0 | CC2: 0 | CD2: 1 | CE2: 10 | CF2: 5 | CG2: 0 | CH2: 0 | CI2: 0 | CJ2: 0 | CK2: 0 | CL2: 0 | CM2: 16 | CN2: 13 | CO2: 2 | CP2: 1 | CQ2: 0 | CR2: 0 | CS2: 0 | CT2: 11 | CU2: 4 | CV2: 1 | CW2: 0 | CX2: 0 | CY2: 0

Sheet Course1
A1: =Summary!B$1 -> ENG-325-01 | H1: =data!A$2 -> King, Matt | N1: 16/SP
A2: 1: I feel like I learned in this course.
A3: Strongly agree | D3: Agree | G3: Neutral | J3: Disagree | M3: Strongly Disagree | S3: total
A4: =data!F$2 -> 5 | B4: =A4/$S4 -> 0.3125 | D4: =data!E$2 -> 8 | E4: =D4/$S4 -> 0.5 | G4: =data!D$2 -> 1 | H4: =G4/$S4 -> 0.0625 | J4: =data!C$2 -> 2 | K4: =J4/$S4 -> 0.125 | M4: =data!B$2 -> 0 | N4: =M4/$S4 -> 0 | S4: =G4+D4+A4+J4+M4 -> 16
A6: 2: I would recommend this instructor to another student.
A7: Strongly agree | D7: Agree | G7: Neutral | J7: Disagree | M7: Strongly Disagree | S7: total
A8: =data!K$2 -> 8 | B8: =A8/$S8 -> 0.5 | D8: =data!J$2 -> 5 | E8: =D8/$S8 -> 0.3125 | G8: =data!I$2 -> 2 | H8: =G8/$S8 -> 0.125 | J8: =data!H$2 -> 1 | K8: =J8/$S8 -> 0.0625 | M8: =data!G$2 -> 0 | N8: =M8/$S8 -> 0 | S8: =G8+D8+A8+J8+M8 -> 16
A10: 3: I would recommend this course to another student.
A11: Strongly agree | D11: Agree | G11: Neutral | J11: Disagree | M11: Strongly Disagree | S11: total
A12: =data!P$2 -> 4 | B12: =A12/$S12 -> 0.25 | D12: =data!O$2 -> 5 | E12: =D12/$S12 -> 0.3125 | G12: =data!N$2 -> 6 | H12: =G12/$S12 -> 0.375 | J12: =data!M$2 -> 1 | K12: =J12/$S12 -> 0.0625 | M12: =data!L$2 -> 0 | N12: =M12/$S12 -> 0 | S12: =J12+G12+D12+A12+M12 -> 16
A14: A1. The instructor typically started class…
A15: early | D15: on time | G15: late | S15: total
A16: =data!Q$2 -> 0 | B16: =A16/$S16 -> 0 | D16: =data!R$2 -> 16 | E16: =D16/$S16 -> 1 | G16: =data!S$2 -> 0 | H16: =G16/$S16 -> 0 | S16: =G16+D16+A16 -> 16
A18: A2. The instructor typically dismissed class…
A19: early | D19: on time | G19: late | S19: total
A20: =data!T$2 -> 0 | B20: =A20/$S20 -> 0 | D20: =data!U$2 -> 15 | E20: =D20/$S20 -> 0.9375 | G20: =data!V$2 -> 1 | H20: =G20/$S20 -> 0.0625 | S20: =G20+D20+A20 -> 16
A22: A3. The instructor spoke clearly.
A23: Strongly agree | D23: Agree | G23: Neutral | J23: Disagree | M23: Strongly Disagree | S23: total
A24: =data!AA$2 -> 10 | B24: =A24/$S24 -> 0.625 | D24: =data!Z$2 -> 4 | E24: =D24/$S24 -> 0.25 | G24: =data!Y$2 -> 1 | H24: =G24/$S24 -> 0.0625 | J24: =data!X$2 -> 1 | K24: =J24/$S24 -> 0.0625 | M24: =data!W$2 -> 0 | N24: =M24/$S24 -> 0 | S24: =M24+J24+G24+D24+A24 -> 16
A26: A4. The instructor maintained order in the class.
A27: Strongly agree | D27: Agree | G27: Neutral | J27: Disagree | M27: Strongly Disagree | S27: total
A28: =data!$AF$2 -> 6 | B28: =A28/$S28 -> 0.375 | D28: =data!$AE$2 -> 9 | E28: =D28/$S28 -> 0.5625 | G28: =data!$AD$2 -> 0 | H28: =G28/$S28 -> 0 | J28: =data!$AC$2 -> 1 | K28: =J28/$S28 -> 0.0625 | M28: =data!$AB$2 -> 0 | N28: =M28/$S28 -> 0 | S28: =M28+J28+G28+D28+A28 -> 16
A30: A5. The instructor seemed to have command of the material.
A31: Strongly agree | D31: Agree | G31: Neutral | J31: Disagree | M31: Strongly Disagree | S31: total
A32: =data!AK$2 -> 9 | B32: =A32/$S32 -> 0.5625 | D32: =data!AJ$2 -> 6 | E32: =D32/$S32 -> 0.375 | G32: =data!AI$2 -> 1 | H32: =G32/$S32 -> 0.0625 | J32: =data!AH$2 -> 0 | K32: =J32/$S32 -> 0 | M32: =data!AG$2 -> 0 | N32: =M32/$S32 -> 0 | S32: =M32+J32+G32+D32+A32 -> 16
A34: A6. The pace at which material was covered was…
A35: much too slow | D35: somewhat slow | G35: about right | J35: somewhat fast | M35: much too fast | S35: total
A36: =data!AL$2 -> 0 | B36: =A36/$S36 -> 0 | D36: =data!AM$2 -> 0 | E36: =D36/$S36 -> 0 | G36: =data!AN$2 -> 14 | H36: =G36/$S36 -> 0.875 | J36: =data!AO$2 -> 2 | K36: =J36/$S36 -> 0.125 | M36: =data!AP$2 -> 0 | N36: =M36/$S36 -> 0 | S36: =M36+J36+G36+D36+A36 -> 16
A38: A7. Class time was used effectively.
A39: Strongly agree | D39: Agree | G39: Neutral | J39: Disagree | M39: Strongly Disagree | S39: total
A40: =data!AU$2 -> 5 | B40: =A40/$S40 -> 0.3125 | D40: =data!AT$2 -> 9 | E40: =D40/$S40 -> 0.5625 | G40: =data!AS$2 -> 2 | H40: =G40/$S40 -> 0.125 | J40: =data!AR$2 -> 0 | K40: =J40/$S40 -> 0 | M40: =data!AQ$2 -> 0 | N40: =M40/$S40 -> 0 | S40: =M40+J40+G40+D40+A40 -> 16
A42: A8. During class, the instructor stimulated interest in the subject matter.
A43: Strongly agree | D43: Agree | G43: Neutral | J43: Disagree | M43: Strongly Disagree | S43: total
A44: =data!AZ$2 -> 3 | B44: =A44/$S44 -> 0.1875 | D44: =data!AY$2 -> 12 | E44: =D44/$S44 -> 0.75 | G44: =data!AX$2 -> 1 | H44: =G44/$S44 -> 0.0625 | J44: =data!AW$2 -> 0 | K44: =J44/$S44 -> 0 | M44: =data!AV$2 -> 0 | N44: =M44/$S44 -> 0 | S44: =M44+J44+G44+D44+A44 -> 16
A46: A9. During class, the instructor made an effort to ensure that the students understood the material.
A47: Strongly agree | D47: Agree | G47: Neutral | J47: Disagree | M47: Strongly Disagree | S47: total
A48: =data!BE$2 -> 5 | B48: =A48/$S48 -> 0.3125 | D48: =data!BD$2 -> 9 | E48: =D48/$S48 -> 0.5625 | G48: =data!BC$2 -> 2 | H48: =G48/$S48 -> 0.125 | J48: =data!BB$2 -> 0 | K48: =J48/$S48 -> 0 | M48: =data!BA$2 -> 0 | N48: =M48/$S48 -> 0 | S48: =M48+J48+G48+D48+A48 -> 16
A50: A10. During class, the instructor encouraged students to ask questions.
A51: Strongly agree | D51: Agree | G51: Neutral | J51: Disagree | M51: Strongly Disagree | S51: total
A52: =data!BJ$2 -> 10 | B52: =A52/$S52 -> 0.625 | D52: =data!BI$2 -> 6 | E52: =D52/$S52 -> 0.375 | G52: =data!BH$2 -> 0 | H52: =G52/$S52 -> 0 | J52: =data!BG$2 -> 0 | K52: =J52/$S52 -> 0 | M52: =data!BF$2 -> 0 | N52: =M52/$S52 -> 0 | S52: =M52+J52+G52+D52+A52 -> 16
...
